BEGIN:VCALENDAR
VERSION:2.0
PRODID:-//Tukios.com/
BEGIN:VEVENT
UID:3a0f9823-ca17-471e-92de-2a76d5eefc31@www.stutzfuneralhome.com
DTSTAMP:20260420T223013Z
DTSTART:20260425T150000Z
DTEND:20260425T160000Z
SUMMARY:Funeral Service
DESCRIPTION:
URL:https://www.stutzfuneralhome.com/obituaries/william-habowski
LOCATION:Kulpmont First United Methodist Church 1 North 9th Street  
	Kulpmont PA 17834
GEO:40.7937438;-76.4724974
END:VEVENT
END:VCALENDAR