BEGIN:VCALENDAR
VERSION:2.0
PRODID:-//Tukios.com/
BEGIN:VEVENT
UID:62b3e342-5af9-465f-a1b8-49b3bee8d60e@www.stutzfuneralhome.com
DTSTAMP:20260420T223346Z
DTSTART:20260425T130000Z
DTEND:20260425T150000Z
SUMMARY:Visitation
DESCRIPTION:
URL:https://www.stutzfuneralhome.com/obituaries/william-habowski
LOCATION:Kulpmont First United Methodist Church 1 North 9th Street  
	Kulpmont PA 17834
GEO:40.7937438;-76.4724974
END:VEVENT
END:VCALENDAR